BEGIN:VCALENDAR
VERSION:2.0
PRODID:Festa de Stº António
X-WR-CALNAME:Festa de Stº António
X-WR-TIMEZONE:Europe/Lisbon
X-PUBLISHED-TTL:P1W
BEGIN:VTIMEZONE
TZID:Europe/Lisbon
X-LIC-LOCATION:Europe/Lisbon
END:VTIMEZONE
BEGIN:VEVENT
UID:69e623e40a1e8
DTSTART;VALUE=DATE:20260703
SEQUENCE:0
TRANSP:OPAQUE
DTEND;VALUE=DATE:20260704
SUMMARY:Festa de Stº António
CLASS:PUBLIC
DESCRIPTION:Local: Casais de S. ClementeOrganização: Comissão de Festas
X-MICROSOFT-CDO-ALLDAYEVENT:TRUE
DTSTAMP:20260420T130228Z
END:VEVENT
END:VCALENDAR