BEGIN:VCALENDAR
VERSION:2.0
PRODID:Caminhada Passadiços de Buarcos
X-WR-CALNAME:Caminhada Passadiços de Buarcos
X-WR-TIMEZONE:Europe/Lisbon
X-PUBLISHED-TTL:P1W
BEGIN:VTIMEZONE
TZID:Europe/Lisbon
X-LIC-LOCATION:Europe/Lisbon
END:VTIMEZONE
BEGIN:VEVENT
UID:69e6236fe3a68
DTSTART;VALUE=DATE:20260426
SEQUENCE:0
TRANSP:OPAQUE
DTEND;VALUE=DATE:20260427
SUMMARY:Caminhada Passadiços de Buarcos
CLASS:PUBLIC
DESCRIPTION:Local: Figueira da FozOrganização: Clube Recreativo e Cultura
 l de Casais de S. Clemente
X-MICROSOFT-CDO-ALLDAYEVENT:TRUE
DTSTAMP:20260420T130031Z
END:VEVENT
END:VCALENDAR